BEGIN:VCALENDAR
VERSION:2.0
PRODID:-//Intuitive Dog Training Courses
CALSCALE:GREGORIAN
METHOD:PUBLISH
X-WR-CALNAME:Intuitive Dog Training Courses
X-ORIGINAL-URL:https://courses.intuitivedogtraining.com.au/product/canine-life-skills-course-2/
X-WR-CALDESC:Canine Life Skills Course
BEGIN:VEVENT
DTSTART;TZID=Australia/Melbourne:20200906T150000
DTEND;TZID=Australia/Melbourne:20200906T160000
SUMMARY:Canine Life Skills Course
DESCRIPTION:
URL:https://courses.intuitivedogtraining.com.au/product/canine-life-skills-course-2/
LOCATION:Lismore Show Grounds, Main Pavilion, 116 Alexander Pde North Lismore NSW 2480
END:VEVENT
END:VCALENDAR
